BEGIN:VCALENDAR
VERSION:2.0
PRODID:-//Violence Free Colorado - ECPv6.15.20//NONSGML v1.0//EN
CALSCALE:GREGORIAN
METHOD:PUBLISH
X-ORIGINAL-URL:https://violencefreecolorado.org
X-WR-CALDESC:Events for Violence Free Colorado
REFRESH-INTERVAL;VALUE=DURATION:PT1H
X-Robots-Tag:noindex
X-PUBLISHED-TTL:PT1H
BEGIN:VTIMEZONE
TZID:America/Denver
BEGIN:DAYLIGHT
TZOFFSETFROM:-0700
TZOFFSETTO:-0600
TZNAME:MDT
DTSTART:20130310T090000
END:DAYLIGHT
BEGIN:STANDARD
TZOFFSETFROM:-0600
TZOFFSETTO:-0700
TZNAME:MST
DTSTART:20131103T080000
END:STANDARD
BEGIN:DAYLIGHT
TZOFFSETFROM:-0700
TZOFFSETTO:-0600
TZNAME:MDT
DTSTART:20140309T090000
END:DAYLIGHT
BEGIN:STANDARD
TZOFFSETFROM:-0600
TZOFFSETTO:-0700
TZNAME:MST
DTSTART:20141102T080000
END:STANDARD
BEGIN:DAYLIGHT
TZOFFSETFROM:-0700
TZOFFSETTO:-0600
TZNAME:MDT
DTSTART:20150308T090000
END:DAYLIGHT
BEGIN:STANDARD
TZOFFSETFROM:-0600
TZOFFSETTO:-0700
TZNAME:MST
DTSTART:20151101T080000
END:STANDARD
BEGIN:DAYLIGHT
TZOFFSETFROM:-0700
TZOFFSETTO:-0600
TZNAME:MDT
DTSTART:20160313T090000
END:DAYLIGHT
BEGIN:STANDARD
TZOFFSETFROM:-0600
TZOFFSETTO:-0700
TZNAME:MST
DTSTART:20161106T080000
END:STANDARD
BEGIN:DAYLIGHT
TZOFFSETFROM:-0700
TZOFFSETTO:-0600
TZNAME:MDT
DTSTART:20170312T090000
END:DAYLIGHT
BEGIN:STANDARD
TZOFFSETFROM:-0600
TZOFFSETTO:-0700
TZNAME:MST
DTSTART:20171105T080000
END:STANDARD
BEGIN:DAYLIGHT
TZOFFSETFROM:-0700
TZOFFSETTO:-0600
TZNAME:MDT
DTSTART:20180311T090000
END:DAYLIGHT
BEGIN:STANDARD
TZOFFSETFROM:-0600
TZOFFSETTO:-0700
TZNAME:MST
DTSTART:20181104T080000
END:STANDARD
BEGIN:DAYLIGHT
TZOFFSETFROM:-0700
TZOFFSETTO:-0600
TZNAME:MDT
DTSTART:20190310T090000
END:DAYLIGHT
BEGIN:STANDARD
TZOFFSETFROM:-0600
TZOFFSETTO:-0700
TZNAME:MST
DTSTART:20191103T080000
END:STANDARD
END:VTIMEZONE
BEGIN:VEVENT
DTSTART;TZID=America/Denver:20180211T130000
DTEND;TZID=America/Denver:20180211T150000
DTSTAMP:20260422T045221
CREATED:20180206T070000Z
LAST-MODIFIED:20180206T070000Z
UID:10000190-1518354000-1518361200@violencefreecolorado.org
SUMMARY:20th Anniversary of Eve Ensler’s Vagina Monologues
DESCRIPTION:This year marks the 20th Anniversary of Eve Ensler’s Vagina Monologues! Come experience the world renowned play and help stop violence against women and girls. Proceeds benefit Violence Free Colorado (Violence Free Colorado) and Denver Colorado AIDS Project (DCAP) through Colorado Health Network (CHN). \n 
URL:https://violencefreecolorado.org/events/20th-anni-vagina-monologues/
LOCATION:Mercury Cafe\, 2199 California St.\, Denver
END:VEVENT
BEGIN:VEVENT
DTSTART;TZID=America/Denver:20160228T140000
DTEND;TZID=America/Denver:20160228T160000
DTSTAMP:20260422T045221
CREATED:20151214T070000Z
LAST-MODIFIED:20240309T020128Z
UID:10000072-1456668000-1456675200@violencefreecolorado.org
SUMMARY:Vagina Monologues Denver
DESCRIPTION: 
URL:https://violencefreecolorado.org/events/vagina-monologues-denver-3/
LOCATION:Mercury Cafe\, 2199 California St.\, Denver
ATTACH;FMTTYPE=image/jpeg:https://violencefreecolorado.org/wp-content/uploads/2024/03/VM-2016.jpg
END:VEVENT
BEGIN:VEVENT
DTSTART;TZID=America/Denver:20160227T210000
DTEND;TZID=America/Denver:20160227T230000
DTSTAMP:20260422T045221
CREATED:20151214T070000Z
LAST-MODIFIED:20240309T020128Z
UID:10000073-1456606800-1456614000@violencefreecolorado.org
SUMMARY:Vagina Monologues Denver (performance #1)
DESCRIPTION:More details to come!
URL:https://violencefreecolorado.org/events/vagina-monologues-denver-performance-2/
LOCATION:Mercury Cafe\, 2199 California St.\, Denver
ATTACH;FMTTYPE=image/jpeg:https://violencefreecolorado.org/wp-content/uploads/2024/03/VM-2016.jpg
END:VEVENT
BEGIN:VEVENT
DTSTART;TZID=America/Denver:20150228T210000
DTEND;TZID=America/Denver:20150228T230000
DTSTAMP:20260422T045221
CREATED:20150113T070000Z
LAST-MODIFIED:20240309T020111Z
UID:10000045-1425157200-1425164400@violencefreecolorado.org
SUMMARY:Vagina Monologues\, Denver
DESCRIPTION:
URL:https://violencefreecolorado.org/events/vagina-monologues-denver-2/
LOCATION:Mercury Cafe\, 2199 California St.\, Denver
ATTACH;FMTTYPE=image/jpeg:https://violencefreecolorado.org/wp-content/uploads/2024/03/VM-Flyer-1.jpg
END:VEVENT
BEGIN:VEVENT
DTSTART;TZID=America/Denver:20150226T190000
DTEND;TZID=America/Denver:20150226T210000
DTSTAMP:20260422T045221
CREATED:20150113T070000Z
LAST-MODIFIED:20240309T020111Z
UID:10000044-1424977200-1424984400@violencefreecolorado.org
SUMMARY:Vagina Monologues\, Denver
DESCRIPTION:
URL:https://violencefreecolorado.org/events/vagina-monologues-denver/
LOCATION:Mercury Cafe\, 2199 California St.\, Denver
ATTACH;FMTTYPE=image/jpeg:https://violencefreecolorado.org/wp-content/uploads/2024/03/VM-Flyer-1.jpg
ORGANIZER;CN="Unnamed Organizer":MAILTO:https://www.facebook.com/vmdenver2015
END:VEVENT
BEGIN:VEVENT
DTSTART;TZID=America/Denver:20140507T180000
DTEND;TZID=America/Denver:20140507T200000
DTSTAMP:20260422T045221
CREATED:20140506T070000Z
LAST-MODIFIED:20140506T070000Z
UID:10000005-1399485600-1399492800@violencefreecolorado.org
SUMMARY:Our Stories: Our Strengths
DESCRIPTION:Digital Stories: Real-life narratives of experiences in exploitation made by people involved with Prax(us). In between the videos there will be entertainment such as poetry and a performance by the Romero Theater Troupe\, an anti-oppression theater agency. Delicious snacks provided and accompanied be the magical atmosphere of the Mercury Cafe’. Sliding scale tickets of $15-$25 can be purchased on the website or at the event. \n 
URL:https://violencefreecolorado.org/events/stories-strengths/
LOCATION:Mercury Cafe\, 2199 California St.\, Denver
END:VEVENT
END:VCALENDAR