BEGIN:VCALENDAR
VERSION:2.0
PRODID:-//Violence Free Colorado - ECPv6.15.20//NONSGML v1.0//EN
CALSCALE:GREGORIAN
METHOD:PUBLISH
X-ORIGINAL-URL:https://violencefreecolorado.org
X-WR-CALDESC:Events for Violence Free Colorado
REFRESH-INTERVAL;VALUE=DURATION:PT1H
X-Robots-Tag:noindex
X-PUBLISHED-TTL:PT1H
BEGIN:VTIMEZONE
TZID:America/Denver
BEGIN:DAYLIGHT
TZOFFSETFROM:-0700
TZOFFSETTO:-0600
TZNAME:MDT
DTSTART:20160313T090000
END:DAYLIGHT
BEGIN:STANDARD
TZOFFSETFROM:-0600
TZOFFSETTO:-0700
TZNAME:MST
DTSTART:20161106T080000
END:STANDARD
BEGIN:DAYLIGHT
TZOFFSETFROM:-0700
TZOFFSETTO:-0600
TZNAME:MDT
DTSTART:20170312T090000
END:DAYLIGHT
BEGIN:STANDARD
TZOFFSETFROM:-0600
TZOFFSETTO:-0700
TZNAME:MST
DTSTART:20171105T080000
END:STANDARD
BEGIN:DAYLIGHT
TZOFFSETFROM:-0700
TZOFFSETTO:-0600
TZNAME:MDT
DTSTART:20180311T090000
END:DAYLIGHT
BEGIN:STANDARD
TZOFFSETFROM:-0600
TZOFFSETTO:-0700
TZNAME:MST
DTSTART:20181104T080000
END:STANDARD
BEGIN:DAYLIGHT
TZOFFSETFROM:-0700
TZOFFSETTO:-0600
TZNAME:MDT
DTSTART:20190310T090000
END:DAYLIGHT
BEGIN:STANDARD
TZOFFSETFROM:-0600
TZOFFSETTO:-0700
TZNAME:MST
DTSTART:20191103T080000
END:STANDARD
BEGIN:DAYLIGHT
TZOFFSETFROM:-0700
TZOFFSETTO:-0600
TZNAME:MDT
DTSTART:20200308T090000
END:DAYLIGHT
BEGIN:STANDARD
TZOFFSETFROM:-0600
TZOFFSETTO:-0700
TZNAME:MST
DTSTART:20201101T080000
END:STANDARD
BEGIN:DAYLIGHT
TZOFFSETFROM:-0700
TZOFFSETTO:-0600
TZNAME:MDT
DTSTART:20210314T090000
END:DAYLIGHT
BEGIN:STANDARD
TZOFFSETFROM:-0600
TZOFFSETTO:-0700
TZNAME:MST
DTSTART:20211107T080000
END:STANDARD
BEGIN:DAYLIGHT
TZOFFSETFROM:-0700
TZOFFSETTO:-0600
TZNAME:MDT
DTSTART:20220313T090000
END:DAYLIGHT
BEGIN:STANDARD
TZOFFSETFROM:-0600
TZOFFSETTO:-0700
TZNAME:MST
DTSTART:20221106T080000
END:STANDARD
END:VTIMEZONE
BEGIN:VEVENT
DTSTART;TZID=America/Denver:20211019T100000
DTEND;TZID=America/Denver:20211019T113000
DTSTAMP:20260425T135349
CREATED:20210915T070000Z
LAST-MODIFIED:20210915T070000Z
UID:10000224-1634637600-1634643000@violencefreecolorado.org
SUMMARY:Webinar: Working with Youth\, Supporting Sexual Assault & Domestic Violence Community-based Advocates
DESCRIPTION:In this webinar\, we will focus on community-based advocates working with youth survivors of sexual assault and domestic violence. \nWe will discuss topics of confidentiality and mandatory reporting\, and explore areas of overlap and some differences with sexual assault and domestic violence\, along with policy suggestions and general themes and considerations when working with youth. \nWe would also like to answer your questions! \nWhen you register\, be sure to let us know what questions about working with youth that you would like us to address. \nThis webinar will be recorded. \n  \nPresenters: \nMaria Mendez (she/her/hers) Training & Technical Assistance Manager at Colorado Coalition Against Sexual Assault (CCASA) \nBrandy Walega (she/her/hers) Technical Assistance & Training Specialist at Violence Free Colorado \nMiranda Encina (they/them/theirs/she/her/hers) Culturally Responsive Technical Assistance Specialist at Violence Free Colorado \n  \nACCOMMODATIONS AVAILABLE UPON REQUEST \nVisual Aids (Visual information send ahead of time for enlargement or other accessibility needs) \n  \nREGISTER HERE
URL:https://violencefreecolorado.org/events/webinar-working-with-youth-supporting-sexual-assault-domestic-violence-community-based-advocates/
LOCATION:Online
END:VEVENT
BEGIN:VEVENT
DTSTART;TZID=America/Denver:20180212T080000
DTEND;TZID=America/Denver:20180212T153000
DTSTAMP:20260425T135349
CREATED:20171115T070000Z
LAST-MODIFIED:20240309T020202Z
UID:10000184-1518422400-1518449400@violencefreecolorado.org
SUMMARY:LEAD 2018
DESCRIPTION:Violence Free Colorado and CCASA advocate at the state Capitol to address issues that impact survivors of domestic and sexual violence. On Legislative Education and Advocacy Day (LEAD)\, we work together with YOU to ensure that policymakers at the state level hear and understand the needs of survivors throughout Colorado. \nJoin us in Denver on February 12\, 2017 for a day of advocacy\, education\, and action! Learn about statewide budget and policy issues that impact survivors of domestic violence\, share lunch with your colleagues from around the state\, and visit the legislators who represent you.
URL:https://violencefreecolorado.org/events/lead-2018/
ATTACH;FMTTYPE=image/jpeg:https://violencefreecolorado.org/wp-content/uploads/2024/03/4140_LEADLogo_COLR_RGBS.jpg
END:VEVENT
BEGIN:VEVENT
DTSTART;VALUE=DATE:20170810
DTEND;VALUE=DATE:20170812
DTSTAMP:20260425T135349
CREATED:20170110T070000Z
LAST-MODIFIED:20170110T070000Z
UID:10000133-1502323200-1502495999@violencefreecolorado.org
SUMMARY:DOT III
DESCRIPTION:For more info\, please contact Shannon Day\, Violence Free Colorado Training and TA Manager: sday(at)violencefreeco.org.
URL:https://violencefreecolorado.org/events/dot-iii/
LOCATION:Violence Free Colorado at RAC\, 1330 Fox Street\, Denver\, CO\, 80204\, United States
END:VEVENT
BEGIN:VEVENT
DTSTART;VALUE=DATE:20170612
DTEND;VALUE=DATE:20170615
DTSTAMP:20260425T135349
CREATED:20170110T070000Z
LAST-MODIFIED:20240309T020149Z
UID:10000134-1497225600-1497484799@violencefreecolorado.org
SUMMARY:Colorado Advocacy in Action Conference
DESCRIPTION:
URL:https://violencefreecolorado.org/events/colorado-advocacy-action-conference-3/
LOCATION:Vail Marriott Resort and Spa\, 715 West Lionshead Circle\, Vail\, CO\, 81657\, United States
ATTACH;FMTTYPE=image/png:https://violencefreecolorado.org/wp-content/uploads/2024/03/CAIA-2017.png
END:VEVENT
BEGIN:VEVENT
DTSTART;VALUE=DATE:20170501
DTEND;VALUE=DATE:20170503
DTSTAMP:20260425T135349
CREATED:20170110T070000Z
LAST-MODIFIED:20170110T070000Z
UID:10000132-1493596800-1493769599@violencefreecolorado.org
SUMMARY:DOT II
DESCRIPTION:For more info\, contact Shannon Day (sday[at]ccadv.org)
URL:https://violencefreecolorado.org/events/dot-ii/
LOCATION:Violence Free Colorado at RAC\, 1330 Fox Street\, Denver\, CO\, 80204\, United States
END:VEVENT
END:VCALENDAR