BEGIN:VCALENDAR
VERSION:2.0
PRODID:-//Violence Free Colorado - ECPv6.15.20//NONSGML v1.0//EN
CALSCALE:GREGORIAN
METHOD:PUBLISH
X-WR-CALNAME:Violence Free Colorado
X-ORIGINAL-URL:https://violencefreecolorado.org
X-WR-CALDESC:Events for Violence Free Colorado
REFRESH-INTERVAL;VALUE=DURATION:PT1H
X-Robots-Tag:noindex
X-PUBLISHED-TTL:PT1H
BEGIN:VTIMEZONE
TZID:America/Denver
BEGIN:DAYLIGHT
TZOFFSETFROM:-0700
TZOFFSETTO:-0600
TZNAME:MDT
DTSTART:20160313T090000
END:DAYLIGHT
BEGIN:STANDARD
TZOFFSETFROM:-0600
TZOFFSETTO:-0700
TZNAME:MST
DTSTART:20161106T080000
END:STANDARD
BEGIN:DAYLIGHT
TZOFFSETFROM:-0700
TZOFFSETTO:-0600
TZNAME:MDT
DTSTART:20170312T090000
END:DAYLIGHT
BEGIN:STANDARD
TZOFFSETFROM:-0600
TZOFFSETTO:-0700
TZNAME:MST
DTSTART:20171105T080000
END:STANDARD
BEGIN:DAYLIGHT
TZOFFSETFROM:-0700
TZOFFSETTO:-0600
TZNAME:MDT
DTSTART:20180311T090000
END:DAYLIGHT
BEGIN:STANDARD
TZOFFSETFROM:-0600
TZOFFSETTO:-0700
TZNAME:MST
DTSTART:20181104T080000
END:STANDARD
END:VTIMEZONE
BEGIN:VEVENT
DTSTART;TZID=America/Denver:20171130T140000
DTEND;TZID=America/Denver:20171130T160000
DTSTAMP:20260425T054818
CREATED:20171114T070000Z
LAST-MODIFIED:20171114T070000Z
UID:10000183-1512050400-1512057600@violencefreecolorado.org
SUMMARY:Denver Human Services Navigator Training for Community Partners
DESCRIPTION:The Community Outreach and Resource Engagement Division of Denver Human Services works with community partners to increase access to assistance\, benefits\, nutrition and other wellness services.This Navigator Training will teach advocates and providers about the resources available and how to help those they serve apply for assistance. \nThis Navigator training will cover the following: \n\nResource Packet\nSNAP (Supplemental Nutrition Application Program) • Basic eligibility for Cash and Medicaid programs (ACA) • LEAP –energy assistance program • PEAK-program eligibility application kit • Child support • CCAP-Childcare assistance program • Veteran’s Program • Adult Protection • Child Welfare\n\nPresented by: Kathy Crusan-Ford\, Agency Trainer for DHS Community Outreach & Resource Engagement Division
URL:https://violencefreecolorado.org/events/denver-human-services-navigator-training-community-partners/
LOCATION:COVA Training Room\, 1325 S. Colorado Blvd.\, Denver\, CO\, 80222\, United States
ORGANIZER;CN="COVA":MAILTO:jenn@coloradocrimevictims.org
END:VEVENT
BEGIN:VEVENT
DTSTART;TZID=America/Denver:20171129T120000
DTEND;TZID=America/Denver:20171129T133000
DTSTAMP:20260425T054818
CREATED:20171110T070000Z
LAST-MODIFIED:20171110T070000Z
UID:10000179-1511956800-1511962200@violencefreecolorado.org
SUMMARY:Criminal Justice 101 Webinar
DESCRIPTION:This webinar will provide an introductory overview of the criminal justice system from the time a crime is reported to law enforcement through the post-sentencing phase of a case. The presentation will introduce attendees to terms used within the criminal justice system. \nAttendees will gain a better understanding of the different directions a case can take during the investigation and prosecution of a case. \nThere will also be an overview of the different sentencing options and supervisory agencies after an offender has been sentenced. There will be a question and answer period to address any areas of the system. \nPresented by: Kelly Kissell\, Manager of the Office for Victims Programs\, Division of Criminal Justice\, Denver \n 
URL:https://violencefreecolorado.org/events/criminal-justice-101-webinar/
ORGANIZER;CN="COVA":MAILTO:jenn@coloradocrimevictims.org
END:VEVENT
BEGIN:VEVENT
DTSTART;TZID=America/Denver:20171005T110000
DTEND;TZID=America/Denver:20171005T123000
DTSTAMP:20260425T054818
CREATED:20170920T070000Z
LAST-MODIFIED:20170920T070000Z
UID:10000166-1507201200-1507206600@violencefreecolorado.org
SUMMARY:COVA Human Trafficking 101 Webinar: What does Human Trafficking look like in Colorado?
DESCRIPTION:Human trafficking involves the exploitation of someone for the purposes of compelled labor or a commercial sex act by force\, fraud\, or coercion. Human trafficking victims are difficult to assist without targeted identification and referral efforts. Victims can be from anywhere in the world and this crime occurs in Colorado more often than you might expect. \nThis training will raise awareness about Human Trafficking\, offer insight to the types of human trafficking found in Colorado and the response to both labor and sex trafficking. Participants will learn how to identify various forms of exploitation\, and how to work with victims and survivors\, domestic and foreign nationals. \nAfter registering\, you will receive a confirmation email containing information about joining the webinar.
URL:https://violencefreecolorado.org/events/cova-ht-101-webinar/
ORGANIZER;CN="COVA":MAILTO:jenn@coloradocrimevictims.org
END:VEVENT
BEGIN:VEVENT
DTSTART;TZID=America/Denver:20170919T120000
DTEND;TZID=America/Denver:20170919T140000
DTSTAMP:20260425T054818
CREATED:20170908T070000Z
LAST-MODIFIED:20170908T070000Z
UID:10000165-1505822400-1505829600@violencefreecolorado.org
SUMMARY:Supporting LGBTQ Survivors of Violence - Presented by Survivors Organizing for Liberation (SOL)
DESCRIPTION:This workshop will introduce providers to LGBTQ communities\, respectful language\, and inclusive practices for supporting LGBTQ survivors of violence. Topics include terminology\, common myths\, barriers to accessing services\, building blocks of gender and sexual orientation\, and the impacts of privilege and oppression. \nVisit http://solcolorado.org/ to learn more about Survivors Organizing for Liberation (SOL). \n 
URL:https://violencefreecolorado.org/events/supporting-lgbtq-survivors-violence-presented-survivors-organizing-liberation-sol/
LOCATION:COVA Training Room\, 1325 S. Colorado Blvd.\, Denver\, CO\, 80222\, United States
ORGANIZER;CN="COVA":MAILTO:jenn@coloradocrimevictims.org
END:VEVENT
BEGIN:VEVENT
DTSTART;TZID=America/Denver:20170915T083000
DTEND;TZID=America/Denver:20170915T120000
DTSTAMP:20260425T054818
CREATED:20170816T070000Z
LAST-MODIFIED:20170816T070000Z
UID:10000160-1505464200-1505476800@violencefreecolorado.org
SUMMARY:Regional Victim Assistance Training - Alamosa
DESCRIPTION:Please RSVP to pa******@*******sa.net by September 8\, 2017. \n8:30am -9:45am: Victim Rights Amendment \n9:45am-10:15am: VOCA Emergency Fund \n10:30am -12:00 pm: Human Trafficking 101
URL:https://violencefreecolorado.org/events/regional-victim-assistance-training-alamosa/
LOCATION:S.L.V. Health Foundation Education and Conference Center\, 1919 Main Street\, Alamosa\, CO\, 81101
ORGANIZER;CN="COVA":MAILTO:jenn@coloradocrimevictims.org
END:VEVENT
BEGIN:VEVENT
DTSTART;TZID=America/Denver:20170913T090000
DTEND;TZID=America/Denver:20170913T130000
DTSTAMP:20260425T054818
CREATED:20170816T070000Z
LAST-MODIFIED:20170816T070000Z
UID:10000159-1505293200-1505307600@violencefreecolorado.org
SUMMARY:Regional Victim Assistance Training - Telluride
DESCRIPTION:Please RSVP to in**@********rk.org by September 8\, 2017. \n9:00am -10:30am: Human Trafficking 101 \n10:45am-12:45pm: Vicarious Trauma & Resilience
URL:https://violencefreecolorado.org/events/regional-victim-assistance-training-telluride/
LOCATION:Wilkinson Public Library\, 100 W Pacific Ave\, Telluride\, CO\, 81435
ORGANIZER;CN="COVA":MAILTO:jenn@coloradocrimevictims.org
END:VEVENT
BEGIN:VEVENT
DTSTART;TZID=America/Denver:20170912T090000
DTEND;TZID=America/Denver:20170912T130000
DTSTAMP:20260425T054818
CREATED:20170816T070000Z
LAST-MODIFIED:20170816T070000Z
UID:10000158-1505206800-1505221200@violencefreecolorado.org
SUMMARY:Regional Victim Assistance Training - Gunnison
DESCRIPTION:Please RSVP to in**@*****gv.org by September 8\, 2017. \n9:00am -10:15am: Victim Rights Amendment \n10:15am-11:00am: VOCA Emergency Fund \n11:15am -12:45pm: Human Trafficking 101
URL:https://violencefreecolorado.org/events/regional-victim-assistance-training-gunnison/
LOCATION:Western State Colorado University\, North Ballroom in the University Center\, 600 North Adams Street\, Gunnison\, CO\, 81231
ORGANIZER;CN="COVA":MAILTO:jenn@coloradocrimevictims.org
END:VEVENT
BEGIN:VEVENT
DTSTART;TZID=America/Denver:20170830T090000
DTEND;TZID=America/Denver:20170830T153000
DTSTAMP:20260425T054818
CREATED:20170816T070000Z
LAST-MODIFIED:20170816T070000Z
UID:10000157-1504083600-1504107000@violencefreecolorado.org
SUMMARY:Regional Victim Assistance Training - Pueblo
DESCRIPTION:9:00am -10:15am: Victim Rights Amendment \n10:15am-10:45am: VOCA Emergency Fund \n11:00am -12:30 pm: Human Trafficking 101 \n1:30pm-3:30pm: Vicarious Trauma & Resilience
URL:https://violencefreecolorado.org/events/regional-victim-assistance-training-pueblo/
LOCATION:Pueblo County Emergency Service Center\, 101 W 10th St\, Pueblo\, CO\, 81003\, United States
ORGANIZER;CN="COVA":MAILTO:jenn@coloradocrimevictims.org
END:VEVENT
END:VCALENDAR