BEGIN:VCALENDAR
VERSION:2.0
PRODID:-//Violence Free Colorado - ECPv6.15.20//NONSGML v1.0//EN
CALSCALE:GREGORIAN
METHOD:PUBLISH
X-ORIGINAL-URL:https://violencefreecolorado.org
X-WR-CALDESC:Events for Violence Free Colorado
REFRESH-INTERVAL;VALUE=DURATION:PT1H
X-Robots-Tag:noindex
X-PUBLISHED-TTL:PT1H
BEGIN:VTIMEZONE
TZID:America/Denver
BEGIN:DAYLIGHT
TZOFFSETFROM:-0700
TZOFFSETTO:-0600
TZNAME:MDT
DTSTART:20160313T090000
END:DAYLIGHT
BEGIN:STANDARD
TZOFFSETFROM:-0600
TZOFFSETTO:-0700
TZNAME:MST
DTSTART:20161106T080000
END:STANDARD
BEGIN:DAYLIGHT
TZOFFSETFROM:-0700
TZOFFSETTO:-0600
TZNAME:MDT
DTSTART:20170312T090000
END:DAYLIGHT
BEGIN:STANDARD
TZOFFSETFROM:-0600
TZOFFSETTO:-0700
TZNAME:MST
DTSTART:20171105T080000
END:STANDARD
BEGIN:DAYLIGHT
TZOFFSETFROM:-0700
TZOFFSETTO:-0600
TZNAME:MDT
DTSTART:20180311T090000
END:DAYLIGHT
BEGIN:STANDARD
TZOFFSETFROM:-0600
TZOFFSETTO:-0700
TZNAME:MST
DTSTART:20181104T080000
END:STANDARD
END:VTIMEZONE
BEGIN:VEVENT
DTSTART;TZID=America/Denver:20171021T100000
DTEND;TZID=America/Denver:20171021T160000
DTSTAMP:20260422T180449
CREATED:20171004T070000Z
LAST-MODIFIED:20171004T070000Z
UID:10000167-1508580000-1508601600@violencefreecolorado.org
SUMMARY:Shopping Extravaganza
DESCRIPTION:Have a ‘Girls Day Out’ for a great cause at Outlets at Loveland! We are selling tickets to this fun shopping-themed party\, which includes lunch\, entertainment\, wine tasting\, dessert\, manicures\, chair massages\, special mall offers\, and more! Fifty percent of the ticket sales go A Woman’s Place if you select us as your charity of choice. \nThanks for your support!
URL:https://violencefreecolorado.org/events/shopping-extravaganza/
LOCATION:Outlets at Loveland Shoppping Center\, 1-25 and US 34\, West on Exit 257\, Lovland\, Loveland\, CO\, United States
END:VEVENT
BEGIN:VEVENT
DTSTART;TZID=America/Denver:20171012T170000
DTEND;TZID=America/Denver:20171012T200000
DTSTAMP:20260422T180449
CREATED:20171004T070000Z
LAST-MODIFIED:20171004T070000Z
UID:10000168-1507827600-1507838400@violencefreecolorado.org
SUMMARY:Pints for the Place
DESCRIPTION:Raise a glass to end domestic violence! Please join us between 5-8 p.m. for beer\, burgers\, brats and raffle prizes at our third fundraising night with WeldWerks Brewing Co.\, located at 508 8th Ave. in Greeley. \n​One dollar of every pint purchased will be donated to us and food will be provided free of charge thanks to Thrivent Financial. If you haven’t tried one of WeldWerks’ award-winning brews\, now’s your chance!
URL:https://violencefreecolorado.org/events/pints-for-the-place/
LOCATION:WeldWerks Brewing Co.\, 508 8th Ave\, Greeley\, CO\, 80632
END:VEVENT
END:VCALENDAR