BEGIN:VCALENDAR
VERSION:2.0
PRODID:-//Violence Free Colorado - ECPv6.15.20//NONSGML v1.0//EN
CALSCALE:GREGORIAN
METHOD:PUBLISH
X-WR-CALNAME:Violence Free Colorado
X-ORIGINAL-URL:https://violencefreecolorado.org
X-WR-CALDESC:Events for Violence Free Colorado
REFRESH-INTERVAL;VALUE=DURATION:PT1H
X-Robots-Tag:noindex
X-PUBLISHED-TTL:PT1H
BEGIN:VTIMEZONE
TZID:America/Denver
BEGIN:DAYLIGHT
TZOFFSETFROM:-0700
TZOFFSETTO:-0600
TZNAME:MDT
DTSTART:20140309T090000
END:DAYLIGHT
BEGIN:STANDARD
TZOFFSETFROM:-0600
TZOFFSETTO:-0700
TZNAME:MST
DTSTART:20141102T080000
END:STANDARD
BEGIN:DAYLIGHT
TZOFFSETFROM:-0700
TZOFFSETTO:-0600
TZNAME:MDT
DTSTART:20150308T090000
END:DAYLIGHT
BEGIN:STANDARD
TZOFFSETFROM:-0600
TZOFFSETTO:-0700
TZNAME:MST
DTSTART:20151101T080000
END:STANDARD
BEGIN:DAYLIGHT
TZOFFSETFROM:-0700
TZOFFSETTO:-0600
TZNAME:MDT
DTSTART:20160313T090000
END:DAYLIGHT
BEGIN:STANDARD
TZOFFSETFROM:-0600
TZOFFSETTO:-0700
TZNAME:MST
DTSTART:20161106T080000
END:STANDARD
END:VTIMEZONE
BEGIN:VEVENT
DTSTART;VALUE=DATE:20150615
DTEND;VALUE=DATE:20150618
DTSTAMP:20260423T030514
CREATED:20141104T070000Z
LAST-MODIFIED:20240309T020106Z
UID:10000028-1434326400-1434585599@violencefreecolorado.org
SUMMARY:Colorado Advocacy in Action Conference
DESCRIPTION:The Colorado Advocacy in Action Conference is co-hosted annually by Violence Free Colorado (Violence Free Colorado) and the Colorado Coalition Against Sexual Assault (CCASA). The Coalitions collaborate on this event in order to provide training and education that is based on best and promising practices for addressing sexual and domestic violence\, and to ensure that services for survivors are as consistent and comprehensive as possible. Colorado Advocacy in Action is the only statewide conference specific to domestic violence\, sexual assault\, stalking\, and dating violence advocacy and is intended for victim service providers as well as affiliated professionals. We hope it also provides an opportunity for advocates in the sexual and domestic violence field to connect with their counterparts and build a collective voice to further our work to end sexual and domestic violence in Colorado.
URL:https://violencefreecolorado.org/events/colorado-advocacy-action-conference-2/
LOCATION:Vail Marriott Resort and Spa\, 715 West Lionshead Circle\, Vail\, CO\, 81657\, United States
ATTACH;FMTTYPE=image/png:https://violencefreecolorado.org/wp-content/uploads/2024/03/CAIA_2014Conference950-920x300-300x97-1.png
ORGANIZER;CN="Colorado Coalition Against Domestic Violence":MAILTO:info@violencefreeco.org
END:VEVENT
END:VCALENDAR