BEGIN:VCALENDAR
VERSION:2.0
PRODID:-//Violence Free Colorado - ECPv6.15.20//NONSGML v1.0//EN
CALSCALE:GREGORIAN
METHOD:PUBLISH
X-ORIGINAL-URL:https://violencefreecolorado.org
X-WR-CALDESC:Events for Violence Free Colorado
REFRESH-INTERVAL;VALUE=DURATION:PT1H
X-Robots-Tag:noindex
X-PUBLISHED-TTL:PT1H
BEGIN:VTIMEZONE
TZID:America/Denver
BEGIN:DAYLIGHT
TZOFFSETFROM:-0700
TZOFFSETTO:-0600
TZNAME:MDT
DTSTART:20140309T090000
END:DAYLIGHT
BEGIN:STANDARD
TZOFFSETFROM:-0600
TZOFFSETTO:-0700
TZNAME:MST
DTSTART:20141102T080000
END:STANDARD
BEGIN:DAYLIGHT
TZOFFSETFROM:-0700
TZOFFSETTO:-0600
TZNAME:MDT
DTSTART:20150308T090000
END:DAYLIGHT
BEGIN:STANDARD
TZOFFSETFROM:-0600
TZOFFSETTO:-0700
TZNAME:MST
DTSTART:20151101T080000
END:STANDARD
BEGIN:DAYLIGHT
TZOFFSETFROM:-0700
TZOFFSETTO:-0600
TZNAME:MDT
DTSTART:20160313T090000
END:DAYLIGHT
BEGIN:STANDARD
TZOFFSETFROM:-0600
TZOFFSETTO:-0700
TZNAME:MST
DTSTART:20161106T080000
END:STANDARD
END:VTIMEZONE
BEGIN:VEVENT
DTSTART;TZID=America/Denver:20150528T063000
DTEND;TZID=America/Denver:20150528T213000
DTSTAMP:20260419T091134
CREATED:20150506T070000Z
LAST-MODIFIED:20240309T020116Z
UID:10000054-1432794600-1432848600@violencefreecolorado.org
SUMMARY:The Mask You Live In Film Screening
DESCRIPTION:
URL:https://violencefreecolorado.org/events/mask-live-film-screening/
LOCATION:Turnhalle at Tivoli\, 900 Auraria Pkwy\, Denver\, CO\, 80217\, United States
ATTACH;FMTTYPE=image/jpeg:https://violencefreecolorado.org/wp-content/uploads/2024/03/Mask-You-Live-In-Poster-final.jpg
ORGANIZER;CN="Colorado Coalition Against Domestic Violence":MAILTO:info@violencefreeco.org
END:VEVENT
END:VCALENDAR