BEGIN:VCALENDAR
VERSION:2.0
PRODID:-//Violence Free Colorado - ECPv6.15.20//NONSGML v1.0//EN
CALSCALE:GREGORIAN
METHOD:PUBLISH
X-ORIGINAL-URL:https://violencefreecolorado.org/es/
X-WR-CALDESC:Eventos para Violence Free Colorado
REFRESH-INTERVAL;VALUE=DURATION:PT1H
X-Robots-Tag:noindex
X-PUBLISHED-TTL:PT1H
BEGIN:VTIMEZONE
TZID:America/Denver
BEGIN:DAYLIGHT
TZOFFSETFROM:-0700
TZOFFSETTO:-0600
TZNAME:MDT
DTSTART:20250309T090000
END:DAYLIGHT
BEGIN:STANDARD
TZOFFSETFROM:-0600
TZOFFSETTO:-0700
TZNAME:MST
DTSTART:20251102T080000
END:STANDARD
BEGIN:DAYLIGHT
TZOFFSETFROM:-0700
TZOFFSETTO:-0600
TZNAME:MDT
DTSTART:20260308T090000
END:DAYLIGHT
BEGIN:STANDARD
TZOFFSETFROM:-0600
TZOFFSETTO:-0700
TZNAME:MST
DTSTART:20261101T080000
END:STANDARD
BEGIN:DAYLIGHT
TZOFFSETFROM:-0700
TZOFFSETTO:-0600
TZNAME:MDT
DTSTART:20270314T090000
END:DAYLIGHT
BEGIN:STANDARD
TZOFFSETFROM:-0600
TZOFFSETTO:-0700
TZNAME:MST
DTSTART:20271107T080000
END:STANDARD
END:VTIMEZONE
BEGIN:VEVENT
DTSTART;TZID=America/Denver:20260422T103000
DTEND;TZID=America/Denver:20260422T120000
DTSTAMP:20260419T073129
CREATED:20260415T202605Z
LAST-MODIFIED:20260415T202605Z
UID:10000334-1776853800-1776859200@violencefreecolorado.org
SUMMARY:Comprender la IPV en las comunidades 2SLGBTQ+
DESCRIPTION:Descripción: \nComprender la IPV en las Comunidades 2SLGBTQIA+ explora cómo el poder\, el control y la violencia pueden manifestarse en las relaciones 2SLGBTQIA+\, y cómo los defensores y los responsables comunitarios pueden reforzar su apoyo a los supervivientes. Esta sesión va más allá de la terminología básica para examinar los prejuicios\, las suposiciones comunes y las barreras del mundo real a las que se enfrentan los supervivientes 2SLGBTQIA+ cuando buscan ayuda\, sobre todo en entornos con recursos limitados. Los participantes se concienciarán sobre la comunicación inclusiva\, el uso de pronombres en situaciones de crisis\, consideraciones sobre el acceso a los refugios y prácticas de defensa culturalmente receptivas. Mediante el debate y la reflexión basados en escenarios\, exploraremos cómo pueden aplicarse los enfoques informados por el trauma en programas locales y contextos comunitarios específicos. Los participantes se irán con herramientas prácticas\, un lenguaje más claro y mejores prácticas concretas que podrán adaptar inmediatamente en sus propias agencias\, equipos y comunidades.     \n  \nBiografía del ponente: \nCastro (ellos/ellas) trabaja como Responsable de Educación y Formación en Rocky Mountain Equality. Dirige cursos de formación sobre competencia cultural LGBTQ+ para organizaciones de todo Colorado y más allá\, y apoya los esfuerzos de defensa a escala estatal centrados en la seguridad y la equidad de la comunidad. Castro aporta experiencia de The Trevor Project\, The Posse Foundation\, The Andrew W. Mellon Mays Foundation y Youth Speaks. Con formación en Arte de Estudio e Historia del Arte por el Carleton College\, integra la creatividad\, la facilitación informada por el trauma y la práctica centrada en la comunidad para ayudar a las instituciones a reforzar la respuesta inclusiva y el apoyo informado por la comunidad.
URL:https://violencefreecolorado.org/es/events/comprender-la-ipv-en-las-comunidades-2slgbtq/
CATEGORIES:Sólo para miembros
ATTACH;FMTTYPE=image/png:https://violencefreecolorado.org/wp-content/uploads/2026/04/TTA-Training-Graphics-1.png
END:VEVENT
BEGIN:VEVENT
DTSTART;TZID=America/Denver:20260428T130000
DTEND;TZID=America/Denver:20260428T140000
DTSTAMP:20260419T073129
CREATED:20260415T203105Z
LAST-MODIFIED:20260415T203105Z
UID:10000340-1777381200-1777384800@violencefreecolorado.org
SUMMARY:Serie: Capacitación financiera para defensores
DESCRIPTION:Únete a nosotros en una Serie de 4 Partes de Talleres de Capacitación Financiera para Defensores. Colorado Libre de Violencia invita a los defensores a trabajar con Kim Pentico\, Directora Senior de Justicia Económica de la Red Nacional para Acabar con la Violencia Doméstica (NNEDV). Cada sesión\, de una hora de duración\, se centrará en un tema diferente de capacitación financiera que los defensores pueden utilizar tanto personal como profesionalmente\, con los supervivientes con los que trabajan. La sesión final será de hora y media y en ella debatiremos sobre los esfuerzos futuros y los próximos pasos.    \nTodas las sesiones tendrán lugar de 13:00 a 14:00; el 26 de mayo será de 13:00 a 14:30 \n14 de abril – Sesión 1: Visión general de por qué y cómo hemos llegado hasta aquí – La lucha es real; no está en tu cabeza \n28 de abril – Sesión 2: Presupuestos: No es una mala palabra \n11 de mayo – Sesión 3: Creación de crédito – Mitos vs. Realidades \n26 de mayo – Sesión 4: Bancos\, Préstamos y Planificación a Largo Plazo
URL:https://violencefreecolorado.org/es/events/serie-capacitacion-financiera-para-defensores/2026-04-28/
CATEGORIES:Sólo para miembros
ATTACH;FMTTYPE=image/png:https://violencefreecolorado.org/wp-content/uploads/2026/04/FinancialEmpowermentforAdvocates.png
END:VEVENT
BEGIN:VEVENT
DTSTART;TZID=America/Denver:20260511T130000
DTEND;TZID=America/Denver:20260511T140000
DTSTAMP:20260419T073129
CREATED:20260415T203105Z
LAST-MODIFIED:20260415T203105Z
UID:10000341-1778504400-1778508000@violencefreecolorado.org
SUMMARY:Serie: Capacitación financiera para defensores
DESCRIPTION:Únete a nosotros en una Serie de 4 Partes de Talleres de Capacitación Financiera para Defensores. Colorado Libre de Violencia invita a los defensores a trabajar con Kim Pentico\, Directora Senior de Justicia Económica de la Red Nacional para Acabar con la Violencia Doméstica (NNEDV). Cada sesión\, de una hora de duración\, se centrará en un tema diferente de capacitación financiera que los defensores pueden utilizar tanto personal como profesionalmente\, con los supervivientes con los que trabajan. La sesión final será de hora y media y en ella debatiremos sobre los esfuerzos futuros y los próximos pasos.    \nTodas las sesiones tendrán lugar de 13:00 a 14:00; el 26 de mayo será de 13:00 a 14:30 \n14 de abril – Sesión 1: Visión general de por qué y cómo hemos llegado hasta aquí – La lucha es real; no está en tu cabeza \n28 de abril – Sesión 2: Presupuestos: No es una mala palabra \n11 de mayo – Sesión 3: Creación de crédito – Mitos vs. Realidades \n26 de mayo – Sesión 4: Bancos\, Préstamos y Planificación a Largo Plazo
URL:https://violencefreecolorado.org/es/events/serie-capacitacion-financiera-para-defensores/2026-05-11/
CATEGORIES:Sólo para miembros
ATTACH;FMTTYPE=image/png:https://violencefreecolorado.org/wp-content/uploads/2026/04/FinancialEmpowermentforAdvocates.png
END:VEVENT
BEGIN:VEVENT
DTSTART;TZID=America/Denver:20260512T100000
DTEND;TZID=America/Denver:20260512T170000
DTSTAMP:20260419T073129
CREATED:20260415T203628Z
LAST-MODIFIED:20260415T203628Z
UID:10000345-1778580000-1778605200@violencefreecolorado.org
SUMMARY:Cumbre Colorado Libre de Violencia: Prospera y Levántate
DESCRIPTION:La cumbre de este año reunirá a defensores de la violencia doméstica de todo el estado para conectar\, compartir y aprender unos junto a otros. Los participantes hablarán con expertos sobre una amplia gama de temas y cuestiones que afectan a los supervivientes de la violencia doméstica\, y obtendrán valiosas ideas y herramientas que podrán llevar a sus organizaciones y aplicar en su trabajo diario con los supervivientes. Por favor\, asegúrate de que todas las personas que asistan al evento se inscriban para que podamos registrar con precisión el número de asistentes y las adaptaciones lingüísticas.   \nEl espacio es limitado y la asistencia tendrá un tope\, ¡inscríbete ahora para reservar tu plaza! \n  \nDetalles importantes: \n-La inscripción se cerrará el 30/4 a menos que alcancemos antes nuestro tope. \n-Por favor\, asegúrate de solicitar adaptaciones lingüísticas antes del 15/4. \n-Los gastos de alojamiento pueden estar cubiertos en función de la ubicación geográfica de tu organización – las organizaciones situadas a menos de 50 km del Centro Rose Andom no pueden optar a la ayuda para los gastos de alojamiento. \n-VFC puede proporcionar un estipendio de viaje de hasta 140\,00 $ por organización. \n-Se enviará Logística adicional a las personas inscritas aproximadamente una semana antes del evento. \n  \nPor favor\, ponte en contacto con Lindsay en lc**********@************co.org si tienes preguntas sobre este acto y/o si necesitas ayuda con el alojamiento o los gastos de viaje. \n  \nLa cumbre será un acto presencial de dos días de duración en Denver\, Colorado\, que contará con dos vías de aprendizaje diferenciadas: Uno de ellos abordará retos específicos y áreas en las que los defensores han solicitado formación y apoyo adicionales. El otro se centrará en la vivienda y la justicia económica\, explorando cómo estas cuestiones críticas se entrecruzan con la seguridad y la capacitación de los supervivientes.  \n  \nPonente principal: \nLos que estábamos esperando: Construir un mundo sin violencia íntima \nAnne P. DePrince\, PhD\, es psicóloga clínica y distinguida profesora universitaria de la Universidad de Denver\, así como una experta en violencia contra las mujeres reconocida internacionalmente. Es autora de «Cada 90 segundos: Our Common Cause Ending Violence against Women» (Oxford University Press\, 2022)\, estudia el impacto de múltiples formas de violencia contra las mujeres -agresión sexual\, violencia doméstica\, tráfico sexual\, violencia en las citas entre adolescentes- en una serie de resultados\, desde la salud y el bienestar económico hasta la educación y la seguridad. El Departamento de Justicia de EE.UU. reconoció su contribución a la comprensión nacional de las víctimas de delitos con el Premio Vision 21 de Investigación sobre Víctimas de Delitos. Psicóloga clínica e investigadora comprometida con la comunidad\, Anne es una defensora de la importancia de la colaboración comunidad-universidad para la resolución de problemas públicos. Dirigió durante 10 años el Centro de Participación Comunitaria de la Universidad de Denver para fomentar la erudición y el aprendizaje\, y actualmente es Vicerrectora Adjunta de Estrategia e Investigación del Bien Público.
URL:https://violencefreecolorado.org/es/events/cumbre-colorado-libre-de-violencia-prospera-y-levantate/2026-05-12/
CATEGORIES:Sólo para miembros
ATTACH;FMTTYPE=image/png:https://violencefreecolorado.org/wp-content/uploads/2026/04/Summit-Graphic-with-Registration.png
END:VEVENT
BEGIN:VEVENT
DTSTART;TZID=America/Denver:20260513T090000
DTEND;TZID=America/Denver:20260513T160000
DTSTAMP:20260419T073129
CREATED:20260415T203628Z
LAST-MODIFIED:20260415T203628Z
UID:10000346-1778662800-1778688000@violencefreecolorado.org
SUMMARY:Cumbre Colorado Libre de Violencia: Prospera y Levántate
DESCRIPTION:La cumbre de este año reunirá a defensores de la violencia doméstica de todo el estado para conectar\, compartir y aprender unos junto a otros. Los participantes hablarán con expertos sobre una amplia gama de temas y cuestiones que afectan a los supervivientes de la violencia doméstica\, y obtendrán valiosas ideas y herramientas que podrán llevar a sus organizaciones y aplicar en su trabajo diario con los supervivientes. Por favor\, asegúrate de que todas las personas que asistan al evento se inscriban para que podamos registrar con precisión el número de asistentes y las adaptaciones lingüísticas.   \nEl espacio es limitado y la asistencia tendrá un tope\, ¡inscríbete ahora para reservar tu plaza! \n  \nDetalles importantes: \n-La inscripción se cerrará el 30/4 a menos que alcancemos antes nuestro tope. \n-Por favor\, asegúrate de solicitar adaptaciones lingüísticas antes del 15/4. \n-Los gastos de alojamiento pueden estar cubiertos en función de la ubicación geográfica de tu organización – las organizaciones situadas a menos de 50 km del Centro Rose Andom no pueden optar a la ayuda para los gastos de alojamiento. \n-VFC puede proporcionar un estipendio de viaje de hasta 140\,00 $ por organización. \n-Se enviará Logística adicional a las personas inscritas aproximadamente una semana antes del evento. \n  \nPor favor\, ponte en contacto con Lindsay en lc**********@************co.org si tienes preguntas sobre este acto y/o si necesitas ayuda con el alojamiento o los gastos de viaje. \n  \nLa cumbre será un acto presencial de dos días de duración en Denver\, Colorado\, que contará con dos vías de aprendizaje diferenciadas: Uno de ellos abordará retos específicos y áreas en las que los defensores han solicitado formación y apoyo adicionales. El otro se centrará en la vivienda y la justicia económica\, explorando cómo estas cuestiones críticas se entrecruzan con la seguridad y la capacitación de los supervivientes.  \n  \nPonente principal: \nLos que estábamos esperando: Construir un mundo sin violencia íntima \nAnne P. DePrince\, PhD\, es psicóloga clínica y distinguida profesora universitaria de la Universidad de Denver\, así como una experta en violencia contra las mujeres reconocida internacionalmente. Es autora de «Cada 90 segundos: Our Common Cause Ending Violence against Women» (Oxford University Press\, 2022)\, estudia el impacto de múltiples formas de violencia contra las mujeres -agresión sexual\, violencia doméstica\, tráfico sexual\, violencia en las citas entre adolescentes- en una serie de resultados\, desde la salud y el bienestar económico hasta la educación y la seguridad. El Departamento de Justicia de EE.UU. reconoció su contribución a la comprensión nacional de las víctimas de delitos con el Premio Vision 21 de Investigación sobre Víctimas de Delitos. Psicóloga clínica e investigadora comprometida con la comunidad\, Anne es una defensora de la importancia de la colaboración comunidad-universidad para la resolución de problemas públicos. Dirigió durante 10 años el Centro de Participación Comunitaria de la Universidad de Denver para fomentar la erudición y el aprendizaje\, y actualmente es Vicerrectora Adjunta de Estrategia e Investigación del Bien Público.
URL:https://violencefreecolorado.org/es/events/cumbre-colorado-libre-de-violencia-prospera-y-levantate/2026-05-13/
CATEGORIES:Sólo para miembros
ATTACH;FMTTYPE=image/png:https://violencefreecolorado.org/wp-content/uploads/2026/04/Summit-Graphic-with-Registration.png
END:VEVENT
BEGIN:VEVENT
DTSTART;TZID=America/Denver:20260526T130000
DTEND;TZID=America/Denver:20260526T140000
DTSTAMP:20260419T073129
CREATED:20260415T203105Z
LAST-MODIFIED:20260415T203105Z
UID:10000342-1779800400-1779804000@violencefreecolorado.org
SUMMARY:Serie: Capacitación financiera para defensores
DESCRIPTION:Únete a nosotros en una Serie de 4 Partes de Talleres de Capacitación Financiera para Defensores. Colorado Libre de Violencia invita a los defensores a trabajar con Kim Pentico\, Directora Senior de Justicia Económica de la Red Nacional para Acabar con la Violencia Doméstica (NNEDV). Cada sesión\, de una hora de duración\, se centrará en un tema diferente de capacitación financiera que los defensores pueden utilizar tanto personal como profesionalmente\, con los supervivientes con los que trabajan. La sesión final será de hora y media y en ella debatiremos sobre los esfuerzos futuros y los próximos pasos.    \nTodas las sesiones tendrán lugar de 13:00 a 14:00; el 26 de mayo será de 13:00 a 14:30 \n14 de abril – Sesión 1: Visión general de por qué y cómo hemos llegado hasta aquí – La lucha es real; no está en tu cabeza \n28 de abril – Sesión 2: Presupuestos: No es una mala palabra \n11 de mayo – Sesión 3: Creación de crédito – Mitos vs. Realidades \n26 de mayo – Sesión 4: Bancos\, Préstamos y Planificación a Largo Plazo
URL:https://violencefreecolorado.org/es/events/serie-capacitacion-financiera-para-defensores/2026-05-26/
CATEGORIES:Sólo para miembros
ATTACH;FMTTYPE=image/png:https://violencefreecolorado.org/wp-content/uploads/2026/04/FinancialEmpowermentforAdvocates.png
END:VEVENT
BEGIN:VEVENT
DTSTART;TZID=America/Denver:20261007T103000
DTEND;TZID=America/Denver:20261007T160000
DTSTAMP:20260419T073129
CREATED:20260415T204341Z
LAST-MODIFIED:20260415T204341Z
UID:10000349-1791369000-1791388800@violencefreecolorado.org
SUMMARY:Sólo para miembros- 2026 Bilingual/Bicultural Denver Convening
DESCRIPTION:Acompáñanos en nuestro Denver Bilingüe/Bicultural 2026 Convocatoria   \nColorado Libre de Violencia se complace en organizar este verano una serie de reuniones bilingües y biculturales en todo el estado. Estamos reuniendo a personal bilingüe y bicultural de nuestros programas miembros en eventos energizantes de dos días.  \nInvitamos cordialmente al personal bilingüe y/o bicultural a asistir y formar parte de estas significativas reuniones. \nQué puedes esperar: \nEl objetivo de estas reuniones es crear comunidad. Juntos\, crearemos un espacio para conectar\, compartir y crecer en nuestro trabajo colectivo de apoyo a los supervivientes. Los participantes participarán en talleres inspiradores sobre el poder personal\, el poder colectivo y el autocuidado\, al tiempo que reforzarán sus conexiones con compañeros de todo Colorado.   \nDetalles importantes: \n\nSe trata de un acto de dos días.\nEs necesario inscribirse.\nSi va a asistir más de una persona de tu organización\, cada persona debe completar su propia inscripción utilizando el enlace que aparece a continuación.\n\nReunámonos\, conectemos\, recarguémonos y celebremos el poderoso trabajo que realizas. ¡Estamos deseando verte allí!  \n  \n¡Únase a nuestro encuentro Bilingue/Bicultural 2026 en ¡Denver! \nColorado Libre de Violencia se complace en organizar una serie de encuentros bilingües y biculturales este verano en todo el estado. Estamos reuniendo a personal bilingüe y bicultural de nuestros programas miembros para dos días energizantes de eventos.  \nInvitamos cordialmente al personal bilingüe y/o bicultural a asistir y formar parte de estos encuentros tan significativos. \n¿Qué puedes esperar? \nEl objetivo de estos encuentros es crear comunidad. Juntes\, vamos a crear un espacio para conectar\, compartir y crecer en nuestro esfuerzo colectivo de apoyo a les sobrevivientes. Los participantes asistirán a talleres inspiradores sobre el poder personal\, el poder colectivo y el autocuidado\, al mismo tiempo que fortalecerán las conexiones con sus colegas de todo Colorado.   \nDetalles importantes: \n\nSe trata de un evento de dos días.\nDebes completar la inscripción.\nSi va a asistir más de una persona de su organización\, cada una de ellas deberá completar su propia inscripción utilizando el enlace que figura a continuación.\n\nReunámonos\, recarguémonos y celebremos la poderosa labor que realizas. ¡Estamos deseando verte!
URL:https://violencefreecolorado.org/es/events/solo-para-miembros-2026-bilingual-bicultural-denver-convening/2026-10-07/
CATEGORIES:Sólo para miembros
ATTACH;FMTTYPE=image/png:https://violencefreecolorado.org/wp-content/uploads/2026/04/2026BilingualBiculturalDenverConvening698f5dab-99c6-41a2-b8f3-fd639263c408.png
END:VEVENT
BEGIN:VEVENT
DTSTART;TZID=America/Denver:20261008T103000
DTEND;TZID=America/Denver:20261008T160000
DTSTAMP:20260419T073129
CREATED:20260415T204341Z
LAST-MODIFIED:20260415T204341Z
UID:10000350-1791455400-1791475200@violencefreecolorado.org
SUMMARY:Sólo para miembros- 2026 Bilingual/Bicultural Denver Convening
DESCRIPTION:Acompáñanos en nuestro Denver Bilingüe/Bicultural 2026 Convocatoria   \nColorado Libre de Violencia se complace en organizar este verano una serie de reuniones bilingües y biculturales en todo el estado. Estamos reuniendo a personal bilingüe y bicultural de nuestros programas miembros en eventos energizantes de dos días.  \nInvitamos cordialmente al personal bilingüe y/o bicultural a asistir y formar parte de estas significativas reuniones. \nQué puedes esperar: \nEl objetivo de estas reuniones es crear comunidad. Juntos\, crearemos un espacio para conectar\, compartir y crecer en nuestro trabajo colectivo de apoyo a los supervivientes. Los participantes participarán en talleres inspiradores sobre el poder personal\, el poder colectivo y el autocuidado\, al tiempo que reforzarán sus conexiones con compañeros de todo Colorado.   \nDetalles importantes: \n\nSe trata de un acto de dos días.\nEs necesario inscribirse.\nSi va a asistir más de una persona de tu organización\, cada persona debe completar su propia inscripción utilizando el enlace que aparece a continuación.\n\nReunámonos\, conectemos\, recarguémonos y celebremos el poderoso trabajo que realizas. ¡Estamos deseando verte allí!  \n  \n¡Únase a nuestro encuentro Bilingue/Bicultural 2026 en ¡Denver! \nColorado Libre de Violencia se complace en organizar una serie de encuentros bilingües y biculturales este verano en todo el estado. Estamos reuniendo a personal bilingüe y bicultural de nuestros programas miembros para dos días energizantes de eventos.  \nInvitamos cordialmente al personal bilingüe y/o bicultural a asistir y formar parte de estos encuentros tan significativos. \n¿Qué puedes esperar? \nEl objetivo de estos encuentros es crear comunidad. Juntes\, vamos a crear un espacio para conectar\, compartir y crecer en nuestro esfuerzo colectivo de apoyo a les sobrevivientes. Los participantes asistirán a talleres inspiradores sobre el poder personal\, el poder colectivo y el autocuidado\, al mismo tiempo que fortalecerán las conexiones con sus colegas de todo Colorado.   \nDetalles importantes: \n\nSe trata de un evento de dos días.\nDebes completar la inscripción.\nSi va a asistir más de una persona de su organización\, cada una de ellas deberá completar su propia inscripción utilizando el enlace que figura a continuación.\n\nReunámonos\, recarguémonos y celebremos la poderosa labor que realizas. ¡Estamos deseando verte!
URL:https://violencefreecolorado.org/es/events/solo-para-miembros-2026-bilingual-bicultural-denver-convening/2026-10-08/
CATEGORIES:Sólo para miembros
ATTACH;FMTTYPE=image/png:https://violencefreecolorado.org/wp-content/uploads/2026/04/2026BilingualBiculturalDenverConvening698f5dab-99c6-41a2-b8f3-fd639263c408.png
END:VEVENT
END:VCALENDAR